Workbook
Name Kurs_2007: #REF!
Name Kurs2006: #REF!

Sheet Kurs Pajak
B1: KURS PAJAK MINGGUAN
B3: Tanggal | C3: 42490
B5: Negara | C5: Mata Uang | D5: Kurs
B6: Amerika Serikat | C6: 1 USD | D6: =OFFSET(Table1[[#Headers],[Tgl]],MATCH($C$3,Table1[Tgl],1),MATCH($C6,'Tabel Kurs Pajak'!$D$2:$AB$2,0)) -> 13173
B7: Australia | C7: 1 AUD | D7: =OFFSET(Table1[[#Headers],[Tgl]],MATCH($C$3,Table1[Tgl],1),MATCH($C7,'Tabel Kurs Pajak'!$D$2:$AB$2,0)) -> 10209.25
B8: Brunei Darussalam | C8: 1 BND | D8: =OFFSET(Table1[[#Headers],[Tgl]],MATCH($C$3,Table1[Tgl],1),MATCH($C8,'Tabel Kurs Pajak'!$D$2:$AB$2,0)) -> 9771.95
B9: Canada | C9: 1 CAD | D9: =OFFSET(Table1[[#Headers],[Tgl]],MATCH($C$3,Table1[Tgl],1),MATCH($C9,'Tabel Kurs Pajak'!$D$2:$AB$2,0)) -> 10385.71
B10: China | C10: 1 CNY | D10: =OFFSET(Table1[[#Headers],[Tgl]],MATCH($C$3,Table1[Tgl],1),MATCH($C10,'Tabel Kurs Pajak'!$D$2:$AB$2,0)) -> 2033.52
B11: Denmark | C11: 1 DKK | D11: =OFFSET(Table1[[#Headers],[Tgl]],MATCH($C$3,Table1[Tgl],1),MATCH($C11,'Tabel Kurs Pajak'!$D$2:$AB$2,0)) -> 1996.55
B12: Euro | C12: 1 EUR | D12: =OFFSET(Table1[[#Headers],[Tgl]],MATCH($C$3,Table1[Tgl],1),MATCH($C12,'Tabel Kurs Pajak'!$D$2:$AB$2,0)) -> 14857.71
B13: Hongkong | C13: 1 HKD | D13: =OFFSET(Table1[[#Headers],[Tgl]],MATCH($C$3,Table1[Tgl],1),MATCH($C13,'Tabel Kurs Pajak'!$D$2:$AB$2,0)) -> 1698.21
B14: India | C14: 1 INR | D14: =OFFSET(Table1[[#Headers],[Tgl]],MATCH($C$3,Table1[Tgl],1),MATCH($C14,'Tabel Kurs Pajak'!$D$2:$AB$2,0)) -> 198.48
B15: Inggris | C15: 1 GBP | D15: =OFFSET(Table1[[#Headers],[Tgl]],MATCH($C$3,Table1[Tgl],1),MATCH($C15,'Tabel Kurs Pajak'!$D$2:$AB$2,0)) -> 18939.52
B16: Jepang | C16: 1 JPY | D16: =OFFSET(Table1[[#Headers],[Tgl]],MATCH($C$3,Table1[Tgl],1),MATCH($C16,'Tabel Kurs Pajak'!$D$2:$AB$2,0)) -> 119.4064
B17: Korea | C17: 1 KRW | D17: =OFFSET(Table1[[#Headers],[Tgl]],MATCH($C$3,Table1[Tgl],1),MATCH($C17,'Tabel Kurs Pajak'!$D$2:$AB$2,0)) -> 11.56
... B30: Thailand | C30: 1 THB | D30: =OFFSET(Table1[[#Headers],[Tgl]],MATCH($C$3,Table1[Tgl],1),MATCH($C30,'Tabel Kurs Pajak'!$D$2:$AB$2,0)) -> 376.4

Sheet Tabel Kurs Pajak
A1: No KMK | B1: Tanggal | C1: Tgl | D1: Amerika Serikat | E1: Australia | F1: Brunei Darussalam | G1: Canada | H1: China | I1: Denmark | J1: Euro | K1: Hongkong | L1: India | M1: Inggris | N1: Jepang | O1: Korea | P1: Kuwait | Q1: Malaysia | R1: Burma (Myanmar) | S1: Norwegia | T1: Pakistan | U1: Philipina | V1: Saudi Arabia | W1: Selandia Baru | X1: Singapura | Y1: Sri Lanka | Z1: Swedia | AA1: Swiss | AB1: Thailand
D2: 1 USD | E2: 1 AUD | F2: 1 BND | G2: 1 CAD | H2: 1 CNY | I2: 1 DKK | J2: 1 EUR | K2: 1 HKD | L2: 1 INR | M2: 1 GBP | N2: 1 JPY | O2: 1 KRW | P2: 1 KWD | Q2: 1 MYR | R2: 1 MMK | S2: 1 NOK | T2: 1 PKR | U2: 1 PHP | V2: 1 SAR | W2: 1 NZD | X2: 1 SGD | Y2: 1 LKR | Z2: 1 SEK | AA2: 1 CHF | AB2: 1 THB
B3: 2008
A4: 875 /KM.1/2007 | B4: 31/12/07 s/d 06/01/08 | C4: 39447 | D4: 9412.2 | E4: 8229.65 | F4: 6497.71 | G4: 9581.02 | H4: 1283.58 | I4: 1843.94 | J4: 13651.27 | K4: 1206 | L4: 240.01 | M4: 18696.58 | N4: 82.5024 | O4: 10.02 | P4: 34412.7 | Q4: 2821.83 | R4: 1466.04 | S4: 1721.49 | T4: 153.32 | U4: 227.42 | V4: 2510.23 | W4: 7234.03 | X4: 6486.7 | Y4: 86.59 | Z4: 1451.74 | AA4: 8190.5 | AB4: 315.17
A5: 008/KM.1/2008 | B5: 07/01/08 s/d 13/01/08 | C5: 39454 | D5: 9403.6 | E5: 8267.08 | F5: 6491.78 | G5: 9471.61 | H5: 1289.89 | I5: 1842.26 | J5: 13802.42 | K5: 1205.1 | L5: 239.79 | M5: 18609.16 | N5: 85.2424 | O5: 10.04 | P5: 34381.25 | Q5: 2850.42 | R5: 1464.7 | S5: 1719.92 | T5: 153.18 | U5: 228.76 | V5: 2507.94 | W5: 7240.21 | X5: 6542.91 | Y5: 86.51 | Z5: 1450.41 | AA5: 8383.35 | AB5: 314.94
A6: 015/KM.1/2008 | B6: 14/01/08 s/d 20/01/08 | C6: 39461 | D6: 9459 | E6: 8306.58 | F6: 6594.44 | G6: 9411.63 | H6: 1299.52 | I6: 1871.18 | J6: 13911.35 | K6: 1212.37 | L6: 241.87 | M6: 18652.52 | N6: 86.7612 | O6: 10.06 | P6: 34635.74 | Q6: 2887.07 | R6: 1473.33 | S6: 1770.54 | T6: 151.91 | U6: 232.06 | V6: 2521.01 | W6: 7272.39 | X6: 6599.3 | Y6: 87.12 | Z6: 1486.86 | AA6: 8496.62 | AB6: 317.45
A7: 034/KM.1/2008 | B7: 21/01/08 s/d 27/01/08 | C7: 39468 | D7: 9454 | E7: 8340.32 | F7: 6617.76 | G7: 9231.88 | H7: 1304.62 | I7: 1889.1 | J7: 13917.04 | K7: 1211.64 | L7: 241.93 | M7: 18576.73 | N7: 88.2166 | O7: 10.02 | P7: 34636.43 | Q7: 2887.28 | R7: 1472.56 | S7: 1795.6 | T7: 151.26 | U7: 232.63 | V7: 2521.38 | W7: 7317.77 | X7: 6594.31 | Y7: 87.35 | Z7: 1499.97 | AA7: 8611.61 | AB7: 315.53
A8: 048/KM.1/2008 | B8: 28/01/08 s/d 03/02/08 | C8: 39475 | D8: 9394.4 | E8: 8205.82 | F8: 6537.56 | G8: 9212.91 | H8: 1298.25 | I8: 1845.53 | J8: 13758.66 | K8: 1203.05 | L8: 239.56 | M8: 18435.57 | N8: 88.0714 | O8: 9.91 | P8: 34395.43 | Q8: 2867.31 | R8: 1463.27 | S8: 1711.57 | T8: 150.4 | U8: 228.98 | V8: 2505.11 | W8: 7179.2 | X8: 6554.2 | Y8: 87.09 | Z8: 1450.78 | AA8: 8587.2 | AB8: 301.86
A9: 082/KM.1/2008 | B9: 04/02/08 s/d 10/02/08 | C9: 39482 | D9: 9285.6 | E9: 8288.33 | F9: 6545.88 | G9: 9286.34 | H9: 1291.68 | I9: 1849.51 | J9: 13769.8 | K9: 1190.34 | L9: 237.25 | M9: 18458.29 | N9: 87.1069 | O9: 9.84 | P9: 34014.55 | Q9: 2868.6 | R9: 1446.33 | S9: 1710.41 | T9: 148.29 | U9: 229.19 | V9: 2476.1 | W9: 7270.25 | X9: 6544.41 | Y9: 86.08 | Z9: 1460.62 | AA9: 8552.95 | AB9: 295.53
A10: 100/KM.1/2008 | B10: 11/02/08 s/d 17/02/08 | C10: 39489 | D10: 9239 | E10: 8298.65 | F10: 6509.98 | G10: 9191.57 | H10: 1285.69 | I10: 1814.17 | J10: 13503.35 | K10: 1184.44 | L10: 234.49 | M10: 18082.94 | N10: 86.3506 | O10: 9.78 | P10: 33792.38 | Q10: 2858.21 | R10: 1439.07 | S10: 1675.31 | T10: 146.99 | U10: 228.4 | V10: 2463.67 | W10: 7280.15 | X10: 6519.47 | Y10: 85.74 | Z10: 1430.01 | AA10: 8407.8 | AB10: 296.22
A11: 110/KM.1/2008 | B11: 18/02/08 s/d 24/02/08 | C11: 39496 | D11: 9241 | E11: 8328.36 | F11: 6524.05 | G11: 9240.63 | H11: 1285.49 | I11: 1814.01 | J11: 13482.99 | K11: 1184.85 | L11: 234.07 | M11: 18133.24 | N11: 85.8255 | O11: 9.77 | P11: 33775.67 | Q11: 2852.62 | R11: 1439.38 | S11: 1708.94 | T11: 146.75 | U11: 225.9 | V11: 2464.11 | W11: 7274.88 | X11: 6518.67 | Y11: 85.66 | Z11: 1449.54 | AA11: 8388.71 | AB11: 288.49
A12: 123/KM.1/2008 | B12: 25/02/08 s/d 02/03/08 | C12: 39503 | D12: 9169 | E12: 8414.21 | F12: 6513.2 | G12: 9058.67 | H12: 1282.55 | I12: 1820.05 | J12: 13516.57 | K12: 1175.51 | L12: 230.51 | M12: 17913.11 | N12: 85.0557 | O12: 9.69 | P12: 33556.71 | Q12: 2846.91 | R12: 1428.16 | S12: 1721.39 | T12: 147.9 | U12: 225.55 | V12: 2444.91 | W12: 7319.98 | X12: 6498.87 | Y12: 84.9 | Z12: 1457.69 | AA12: 8371.99 | AB12: 291.04
A13: 159/KM.1/2008 | B13: 03/03/08 s/d 09/03/08 | C13: 39510 | D13: 9069.2 | E13: 8516.7 | F13: 6510.78 | G13: 9234.87 | H13: 1271.07 | I13: 1847.4 | J13: 13655.86 | K13: 1164.63 | L13: 228.18 | M13: 17979.33 | N13: 85.2497 | O13: 9.64 | P13: 33263.2 | Q13: 2833.33 | R13: 1412.62 | S13: 1751.9 | T13: 145.11 | U13: 224.49 | V13: 2420.39 | W13: 7385.05 | X13: 6483.28 | Y13: 84.07 | Z13: 1468.94 | AA13: 8503.38 | AB13: 303.2
A14: 176/KM.1/2008 | B14: 10/03/08 s/d 16/03/08 | C14: 39517 | D14: 9097.5 | E14: 8496.16 | F14: 6556.57 | G14: 9201.24 | H14: 1280.27 | I14: 1865.99 | J14: 13865.5 | K14: 1168.35 | L14: 226.8 | M14: 18089.7 | N14: 87.765 | O14: 9.59 | P14: 33452.87 | Q14: 2856.36 | R14: 1417.03 | S14: 1773.47 | T14: 144.65 | U14: 223.69 | V14: 2426.94 | W14: 7305.97 | X14: 6548.62 | Y14: 84.42 | Z14: 1488.17 | AA14: 8761.29 | AB14: 288.35
A15: 186/KM.1/2008 | B15: 17/03/08 s/d 23/03/08 | C15: 39524 | D15: 9201 | E15: 8591.53 | F15: 6658.76 | G15: 9298.07 | H15: 1296.32 | I15: 1925.4 | J15: 14254.01 | K15: 1181.6 | L15: 229.01 | M15: 18596.51 | N15: 90.4613 | O15: 9.45 | P15: 34215.94 | Q15: 2896.07 | R15: 1433.15 | S15: 1805.88 | T15: 146.76 | U15: 223.54 | V15: 2458.51 | W15: 7420.61 | X15: 6651.2 | Y15: 85.29 | Z15: 1523.41 | AA15: 9037.25 | AB15: 292.11
... A54: 891 /KM.1/2008 | B54: 22/12/08 s/d 04/01/09 | C54: 39804 | D54: 11062.6 | E54: 7620.14 | F54: 7567.79 | G54: 9162.48 | H54: 1617.52 | I54: 2098.04 | J54: 15629.68 | K54: 1427.42 | L54: 232.2 | M54: 16948.35 | N54: 124.1566 | O54: 8.35 | P54: 40393.91 | Q54: 3146.77 | R54: 1723.15 | S54: 1626.34 | T54: 138.34 | U54: 234.81 | V54: 2948.78 | W54: 6397.94 | X54: 7623.07 | Y54: 99.03 | Z54: 1417 | AA54: 10029.19 | AB54: 319.25
B55: 2009
A56: 891 /KM.1/2008 | B56: 22/12/08 s/d 04/01/09 | C56: 39804 | D56: 11062.6 | E56: 7620.14 | F56: 7567.79 | G56: 9162.48 | H56: 1617.52 | I56: 2098.04 | J56: 15629.68 | K56: 1427.42 | L56: 232.2 | M56: 16948.35 | N56: 124.1566 | O56: 8.35 | P56: 40393.91 | Q56: 3146.77 | R56: 1723.15 | S56: 1626.34 | T56: 138.34 | U56: 234.81 | V56: 2948.78 | W56: 6397.94 | X56: 7623.07 | Y56: 99.03 | Z56: 1417 | AA56: 10029.19 | AB56: 319.25
A57: 001/KM.1/2009 | B57: 05/01/09 s/d 11/01/09 | C57: 39818 | D57: 11125.5 | E57: 7667.69 | F57: 7730.69 | G57: 9144 | H57: 1626.12 | I57: 2095.7 | J57: 15617.98 | K57: 1435.51 | L57: 229.62 | M57: 16040.75 | N57: 123.0153 | O57: 8.81 | P57: 40275.73 | Q57: 3198.36 | R57: 1732.94 | S57: 1578.82 | T57: 140.39 | U57: 234.64 | V57: 2964.01 | W57: 6423.49 | X57: 7726.22 | Y57: 97.97 | Z57: 1427.47 | AA57: 10499.06 | AB57: 319.42
A58: 016/KM.1/2009 | B58: 12/01/09 s/d 18/01/09 | C58: 39825 | D58: 10983.6 | E58: 7850.64 | F58: 7450.45 | G58: 9259.17 | H58: 1607.22 | I58: 2009.75 | J58: 14977.02 | K58: 1416.41 | L58: 225.66 | M58: 16501.98 | N58: 118.829 | O58: 8.34 | P58: 39367.39 | Q58: 3122.45 | R58: 1710.84 | S58: 1577.45 | T58: 138.78 | U58: 234.19 | V58: 2927.96 | W58: 6521.84 | X58: 7446.41 | Y58: 96.56 | Z58: 1403.92 | AA58: 9961.36 | AB58: 314.52
A59: 051/KM.1/2009 | B59: 19/01/09 s/d 25/01/09 | C59: 39832 | D59: 11156 | E59: 7447.52 | F59: 7483.93 | G59: 9003.45 | H59: 1631.97 | I59: 1976.66 | J59: 14729.04 | K59: 1438.09 | L59: 227.9 | M59: 16344.88 | N59: 124.6313 | O59: 8.17 | P59: 39157.6 | Q59: 3116.9 | R59: 1737.69 | S59: 1567.73 | T59: 141 | U59: 235.69 | V59: 2974.57 | W59: 6134.46 | X59: 7478.41 | Y59: 98 | Z59: 1352.84 | AA59: 9966.59 | AB59: 319.67
A60: 091/KM.1/2009 | B60: 26/01/09 s/d 01/02/09 | C60: 39839 | D60: 11221.8 | E60: 7380.8 | F60: 7483.3 | G60: 8927.02 | H60: 1640.97 | I60: 1957.02 | J60: 14582.95 | K60: 1446.29 | L60: 228.83 | M60: 15704.91 | N60: 125.3384 | O60: 8.16 | P60: 39047.56 | Q60: 3110 | R60: 1747.94 | S60: 1606.58 | T60: 140.27 | U60: 236.84 | V60: 2992.34 | W60: 5936.33 | X60: 7481 | Y60: 98.64 | Z60: 1354.02 | AA60: 9772.02 | AB60: 321.21
A61: 110/KM.1/2009 | B61: 02/02/09 s/d 08/02/09 | C61: 39846 | D61: 11320.8 | E61: 7438.67 | F61: 7534.64 | G61: 9250.53 | H61: 1653.25 | I61: 1986.08 | J61: 14801.49 | K61: 1459.37 | L61: 231.28 | M61: 16051.54 | N61: 126.4046 | O61: 8.18 | P61: 39328.82 | Q61: 3137.64 | R61: 1763.36 | S61: 1664.28 | T61: 143.42 | U61: 240.72 | V61: 3017.25 | W61: 5894.74 | X61: 7526.13 | Y61: 99.38 | Z61: 1397.6 | AA61: 9865.28 | AB61: 324.29
A62: 131/KM.1/2009 | B62: 09/02/09 s/d 15/02/09 | C62: 39853 | D62: 11742 | E62: 7586.04 | F62: 7786.89 | G62: 9509.69 | H62: 1717.07 | I62: 2026.81 | J62: 15102.56 | K62: 1514.4 | L62: 240.42 | M62: 17005.94 | N62: 130.3103 | O62: 8.48 | P62: 39768.34 | Q62: 3247.63 | R62: 1828.97 | S62: 1699.58 | T62: 148.39 | U62: 247.3 | V62: 3130.5 | W62: 6001.57 | X62: 7790.09 | Y62: 103.03 | Z62: 1417.48 | AA62: 10114.22 | AB62: 335.83
A63: 163/KM.1/2009 | B63: 16/02/09 s/d 22/02/09 | C63: 39860 | D63: 11799.4 | E63: 7782.65 | F63: 7847.12 | G63: 9538.11 | H63: 1726.7 | I63: 2044.62 | J63: 15236.57 | K63: 1522.06 | L63: 242.22 | M63: 17096.15 | N63: 129.875 | O63: 8.47 | P63: 40307.86 | Q63: 3274.08 | R63: 1837.91 | S63: 1741.49 | T63: 148.54 | U63: 250.63 | V63: 3145.82 | W63: 6204.6 | X63: 7842.22 | Y63: 103.5 | Z63: 1424.64 | AA63: 10166.11 | AB63: 336.43
A64: 165/KM.1/2009 | B64: 23/02/09 s/d 01/03/09 | C64: 39867 | D64: 11965.2 | E64: 7675.44 | F64: 7839.76 | G64: 9518.55 | H64: 1750.08 | I64: 2030.33 | J64: 15126.88 | K64: 1543.01 | L64: 241.6 | M64: 17056.39 | N64: 128.2994 | O64: 8.16 | P64: 40966.89 | Q64: 3279.84 | R64: 1863.74 | S64: 1721.82 | T64: 149.72 | U64: 250.13 | V64: 3190.14 | W64: 6098.9 | X64: 7835.14 | Y64: 104.91 | Z64: 1370.56 | AA64: 10211.31 | AB64: 337.75
A65: 194/KM.1/2009 | B65: 02/03/09 s/d 08/03/09 | C65: 39874 | D65: 11955.75 | E65: 7730.11 | F65: 7805.95 | G65: 9552.22 | H65: 1748.24 | I65: 2045.17 | J65: 15236.89 | K65: 1541.91 | L65: 238.64 | M65: 17162.24 | N65: 123.2933 | O65: 7.91 | P65: 40836.66 | Q65: 3259.74 | R65: 1862.27 | S65: 1735.68 | T65: 149.76 | U65: 247.74 | V65: 3187.84 | W65: 6084.28 | X65: 7803.5 | Y65: 104.15 | Z65: 1339.7 | AA65: 10256.28 | AB65: 333.87
A66: 217/KM.1/2009 | B66: 09/03/09 s/d 15/03/09 | C66: 39881 | D66: 12043.8 | E66: 7700.81 | F66: 7762.88 | G66: 9355.13 | H66: 1760.3 | I66: 2033.51 | J66: 15151.34 | K66: 1552.48 | L66: 232.47 | M66: 17000.31 | N66: 122.6331 | O66: 7.7 | P66: 40798.78 | Q66: 3237.06 | R66: 1875.98 | S66: 1689.25 | T66: 150.32 | U66: 246.84 | V66: 3212 | W66: 6003.83 | X66: 7761.68 | Y66: 105.41 | Z66: 1305.5 | AA66: 10277.51 | AB66: 332.83
A67: 222/KM.1/2009 | B67: 16/03/09 s/d 22/03/09 | C67: 39888 | D67: 12000.4 | E67: 7774.58 | F67: 7808.29 | G67: 9344.5 | H67: 1754.55 | I67: 2059.5 | J67: 15348.27 | K67: 1547.5 | L67: 231.36 | M67: 16622.95 | N67: 122.3382 | O67: 7.99 | P67: 40708.02 | Q67: 3244.26 | R67: 1869.22 | S67: 1725.08 | T67: 149.26 | U67: 247.49 | V67: 3199.83 | W67: 6121.88 | X67: 7816.12 | Y67: 105 | Z67: 1362.63 | AA67: 10265.88 | AB67: 333.51
... A108: 1397/KM.1/2009 | B108: 28/12/09 s/d 03/01/10 | C108: 40175 | D108: 9502 | E108: 8340.22 | F108: 6748.74 | G108: 8972.9 | H108: 1391.57 | I108: 1820.52 | J108: 13547.95 | K108: 1225.26 | L108: 202.91 | M108: 15187.68 | N108: 103.7525 | O108: 8.04 | P108: 33123.02 | Q108: 2766.02 | R108: 1480.06 | S108: 1617.31 | T108: 112.75 | U108: 204.03 | V108: 2533.84 | W108: 6663.12 | X108: 6749.38 | Y108: 83.11 | Z108: 1298.63 | AA108: 9065.35 | AB108: 285.57
B109: 2010
A110: 1397/KM.1/2009 | B110: 28/12/09 s/d 03/01/10 | C110: 40175 | D110: 9502 | E110: 8340.22 | F110: 6748.74 | G110: 8972.9 | H110: 1391.57 | I110: 1820.52 | J110: 13547.95 | K110: 1225.26 | L110: 202.91 | M110: 15187.68 | N110: 103.7525 | O110: 8.04 | P110: 33123.02 | Q110: 2766.02 | R110: 1480.06 | S110: 1617.31 | T110: 112.75 | U110: 204.03 | V110: 2533.84 | W110: 6663.12 | X110: 6749.38 | Y110: 83.11 | Z110: 1298.63 | AA110: 9065.35 | AB110: 285.57
A111: 001/KM.1/2010 | B111: 04/01/10 s/d 10/01/10 | C111: 40182 | D111: 9442 | E111: 8437.61 | F111: 6721 | G111: 9008.04 | H111: 1382.85 | I111: 1822.15 | J111: 13559.42 | K111: 1217.56 | L111: 202.14 | M111: 15123.02 | N111: 102.494 | O111: 8.09 | P111: 32902.39 | Q111: 2754.48 | R111: 1470.72 | S111: 1629.16 | T111: 111.95 | U111: 204.18 | V111: 2517.2 | W111: 6782.9 | X111: 6721.6 | Y111: 82.56 | Z111: 1314.86 | AA111: 9117.2 | AB111: 283.2
A112: 011/KM.1/2010 | B112: 11/01/10 s/d 17/01/10 | C112: 40189 | D112: 9287 | E112: 8504.29 | F112: 6649.15 | G112: 8961.69 | H112: 1360.23 | I112: 1792.43 | J112: 13337.43 | K112: 1197.49 | L112: 201.8 | M112: 14852.88 | N112: 100.2613 | O112: 8.15 | P112: 32383.71 | Q112: 2743.67 | R112: 1446.57 | S112: 1628.25 | T112: 109.68 | U112: 202.21 | V112: 2476.6 | W112: 6818.33 | X112: 6644.87 | Y112: 81.22 | Z112: 1308.47 | AA112: 8999.9 | AB112: 280.05
A113: 024/KM.1/2010 | B113: 18/01/10 s/d 24/01/10 | C113: 40196 | D113: 9174.4 | E113: 8498.98 | F113: 6605.52 | G113: 8901.65 | H113: 1343.87 | I113: 1786.28 | J113: 13290.77 | K113: 1182.78 | L113: 201.29 | M113: 14900.33 | N113: 100.4423 | O113: 8.17 | P113: 32052.55 | Q113: 2745.56 | R113: 1429.03 | S113: 1626.72 | T113: 108.27 | U113: 200.59 | V113: 2446.78 | W113: 6790.16 | X113: 6605.71 | Y113: 80.23 | Z113: 1304.55 | AA113: 9002.45 | AB113: 278.37
A114: 052/KM.1/2010 | B114: 25/01/10 s/d 31/01/10 | C114: 40203 | D114: 9295 | E114: 8479.08 | F114: 6649.64 | G114: 8925.48 | H114: 1361.5 | I114: 1773.21 | J114: 13197.6 | K114: 1196.67 | L114: 202.7 | M114: 15132.82 | N114: 102.4762 | O114: 8.18 | P114: 32407.99 | Q114: 2765.13 | R114: 1447.82 | S114: 1617.15 | T114: 109.99 | U114: 202.05 | V114: 2478.52 | W114: 6727.72 | X114: 6646.88 | Y114: 81.3 | Z114: 1299.99 | AA114: 8964.74 | AB114: 282.15
A115: 062/KM.1/2010 | B115: 01/02/10 s/d 07/02/10 | C115: 40210 | D115: 9382 | E115: 8435.17 | F115: 6683.76 | G115: 8834.44 | H115: 1374.27 | I115: 1771.14 | J115: 13186.03 | K115: 1207.23 | L115: 202.69 | M115: 15169.94 | N115: 104.3952 | O115: 8.11 | P115: 32695.36 | Q115: 2747.26 | R115: 1461.37 | S115: 1604.44 | T115: 110.88 | U115: 201.56 | V115: 2501.76 | W115: 6649.77 | X115: 6684.05 | Y115: 81.9 | Z115: 1287.9 | AA115: 8965.29 | AB115: 283.79
A116: 076/KM.1/2010 | B116: 08/02/10 s/d 14/02/10 | C116: 40217 | D116: 9359.4 | E116: 8222.23 | F116: 6616.57 | G116: 8784.21 | H116: 1370.92 | I116: 1740.09 | J116: 12955.47 | K116: 1204.76 | L116: 202.54 | M116: 14847.75 | N116: 103.8364 | O116: 8.07 | P116: 32522.53 | Q116: 2736.22 | R116: 1457.85 | S116: 1585.65 | T116: 110.21 | U116: 201.99 | V116: 2495.79 | W116: 6548.77 | X116: 6614.88 | Y116: 81.65 | Z116: 1277.1 | AA116: 8823.63 | AB116: 282.45
A117: 081/KM.1/2010 | B117: 15/02/10 s/d 21/02/10 | C117: 40224 | D117: 9377.2 | E117: 8248 | F117: 6619.51 | G117: 8838.08 | H117: 1372.93 | I117: 1726.77 | J117: 12855.77 | K117: 1206.84 | L117: 201.16 | M117: 14681.69 | N117: 104.5722 | O117: 8.07 | P117: 32530.35 | Q117: 2732.57 | R117: 1460.62 | S117: 1585.49 | T117: 110.46 | U117: 202.17 | V117: 2500.55 | W117: 6502.9 | X117: 6618.2 | Y117: 81.72 | Z117: 1283.55 | AA117: 8769.31 | AB117: 282.53
A118: 125/KM.1/2010 | B118: 22/02/10 s/d 28/02/10 | C118: 40231 | D118: 9325 | E118: 8349.42 | F118: 6616.29 | G118: 8909.63 | H118: 1364.64 | I118: 1703.87 | J118: 12682.56 | K118: 1200.38 | L118: 201.7 | M118: 14565.46 | N118: 102.477 | O118: 8.1 | P118: 32268 | Q118: 2735.7 | R118: 1452.49 | S118: 1574.85 | T118: 109.87 | U118: 201.97 | V118: 2486.6 | W118: 6532.54 | X118: 6614.32 | Y118: 81.52 | Z118: 1289.51 | AA118: 8647.71 | AB118: 281.01
A119: 03/KM.11/2010 | B119: 01/03/10 s/d 07/03/10 | C119: 40238 | D119: 9317.75 | E119: 8334.73 | F119: 6604.82 | G119: 8859.07 | H119: 1364.88 | I119: 1694.38 | J119: 12611.57 | K119: 1200.1 | L119: 201.39 | M119: 14370.07 | N119: 103.1495 | O119: 8.09 | P119: 32208.47 | Q119: 2740.58 | R119: 1451.36 | S119: 1569.04 | T119: 109.56 | U119: 201.89 | V119: 2484.67 | W119: 6471.64 | X119: 6606.11 | Y119: 81.51 | Z119: 1289.41 | AA119: 8617.17 | AB119: 281.72
A120: 04/KM.11/2010 | B120: 08/03/10 s/d 14/03/10 | C120: 40245 | D120: 9294.75 | E120: 8385.54 | F120: 6626.99 | G120: 8950 | H120: 1361.64 | I120: 1703.55 | J120: 12679.34 | K120: 1197.32 | L120: 202.16 | M120: 14017.23 | N120: 104.6848 | O120: 8.06 | P120: 32188.27 | Q120: 2744.22 | R120: 1447.78 | S120: 1573.78 | T120: 109.11 | U120: 201.68 | V120: 2478.48 | W120: 6473.61 | X120: 6625.19 | Y120: 81.2 | Z120: 1299.66 | AA120: 8665.14 | AB120: 283.41
A121: 05/KM.11/2010 | B121: 15/03/10 s/d 21/03/10 | C121: 40252 | D121: 9188 | E121: 8395.99 | F121: 6571.21 | G121: 8961.28 | H121: 1345.97 | I121: 1685.44 | J121: 12541.99 | K121: 1184.17 | L121: 201.78 | M121: 13809.75 | N121: 101.6754 | O121: 8.11 | P121: 31855.88 | Q121: 2761.13 | R121: 1431.15 | S121: 1563.1 | T121: 108.75 | U121: 200.92 | V121: 2450 | W121: 6441.52 | X121: 6568.39 | Y121: 80.53 | Z121: 1290.25 | AA121: 8578.1 | AB121: 280.96
... A161: 1145/KM.1/2010 | B161: 27/12/10 s/d 02/01/11 | C161: 40539 | D161: 9044 | E161: 8989.96 | F161: 6882.28 | G161: 8898.07 | H161: 1357.38 | I161: 1595.2 | J161: 11883.59 | K161: 1163.13 | L161: 199.72 | M161: 14016.39 | N161: 107.9075 | O161: 7.84 | P161: 32021.24 | Q161: 2883.17 | R161: 1408.72 | S161: 1512.14 | T161: 105.51 | U161: 204.08 | V161: 2411.6 | W161: 6703.19 | X161: 6886.99 | Y161: 81.32 | Z161: 1322.7 | AA161: 9402.47 | AB161: 299.89
B162: 2011
A163: 1145/KM.1/2010 | B163: 27/12/10 s/d 02/01/11 | C163: 40539 | D163: 9044 | E163: 8989.96 | F163: 6882.28 | G163: 8898.07 | H163: 1357.38 | I163: 1595.2 | J163: 11883.59 | K163: 1163.13 | L163: 199.72 | M163: 14016.39 | N163: 107.9075 | O163: 7.84 | P163: 32021.24 | Q163: 2883.17 | R163: 1408.72 | S163: 1512.14 | T163: 105.51 | U163: 204.08 | V163: 2411.6 | W163: 6703.19 | X163: 6886.99 | Y163: 81.32 | Z163: 1322.7 | AA163: 9402.47 | AB163: 299.89
A164: 001/KM.1/2011 | B164: 03/01/11 s/d 09/01/11 | C164: 40546 | D164: 9008 | E164: 9115.02 | F164: 6961.14 | G164: 8992.35 | H164: 1360.95 | I164: 1595.3 | J164: 11892.18 | K164: 1157.5 | L164: 199.79 | M164: 13889.62 | N164: 109.8081 | O164: 7.9 | P164: 31945.53 | Q164: 2917.42 | R164: 1403.12 | S164: 1520.31 | T164: 105 | U164: 205.3 | V164: 2402.07 | W164: 6860.13 | X164: 6960.61 | Y164: 81.15 | Z164: 1323.05 | AA164: 9512.95 | AB164: 298.75
A165: 010/KM.1/2011 | B165: 10/01/11 s/d 16/01/11 | C165: 40553 | D165: 8992 | E165: 9007.65 | F165: 6964.6 | G165: 9024.49 | H165: 1358.86 | I165: 1588.27 | J165: 11837.43 | K165: 1157.07 | L165: 199.51 | M165: 13941.2 | N165: 108.6804 | O165: 8 | P165: 31950.54 | Q165: 2930.75 | R165: 1400.62 | S165: 1523.2 | T165: 104.89 | U165: 205.1 | V165: 2397.74 | W165: 6853.88 | X165: 6963.85 | Y165: 81.11 | Z165: 1325.72 | AA165: 9408.42 | AB165: 297.91
A166: 025/KM.1/2011 | B166: 17/01/11 s/d 23/01/11 | C166: 40560 | D166: 9068 | E166: 9018.49 | F166: 7023.25 | G166: 9163.3 | H166: 1371.47 | I166: 1598.83 | J166: 11912.63 | K166: 1166.31 | L166: 200.41 | M166: 14261.79 | N166: 109.3347 | O166: 8.1 | P166: 32124.7 | Q166: 2958.14 | R166: 1412.46 | S166: 1533.04 | T166: 105.81 | U166: 205.3 | V166: 2418.05 | W166: 6933.76 | X166: 7026.95 | Y166: 81.9 | Z166: 1337.59 | AA166: 9361.58 | AB166: 297.41
A167: 034/KM.1/2011 | B167: 24/01/11 s/d 30/01/11 | C167: 40567 | D167: 9063.4 | E167: 9002.13 | F167: 7047.31 | G167: 9121.6 | H167: 1375.76 | I167: 1632.19 | J167: 12162.18 | K167: 1164.9 | L167: 199.26 | M167: 14435.46 | N167: 109.6441 | O167: 8.11 | P167: 32294.32 | Q167: 2963.43 | R167: 1411.74 | S167: 1548.83 | T167: 105.75 | U167: 203.9 | V167: 2416.81 | W167: 6931.87 | X167: 7049.17 | Y167: 81.71 | Z167: 1360.36 | AA167: 9405.97 | AB167: 296.83
A168: 041/KM.1/2011 | B168: 31/01/11 s/d 06/02/11 | C168: 40574 | D168: 9041 | E168: 8994.35 | F168: 7062.07 | G168: 9087.71 | H168: 1373.07 | I168: 1661 | J168: 12380.56 | K168: 1160.53 | L168: 198.05 | M168: 14384.59 | N168: 109.564 | O168: 8.09 | P168: 32307.17 | Q168: 2960.4 | R168: 1408.26 | S168: 1563.29 | T168: 105.25 | U168: 203.91 | V168: 2410.77 | W168: 6958.5 | X168: 7063.72 | Y168: 81.5 | Z168: 1392.86 | AA168: 9567.6 | AB168: 292.55
A169: 064/KM.1/2011 | B169: 07/02/11 s/d 13/02/11 | C169: 40581 | D169: 9030 | E169: 9128.07 | F169: 7082.13 | G169: 9100.25 | H169: 1370.2 | I169: 1661.53 | J169: 12386.45 | K169: 1159.33 | L169: 197.47 | M169: 14561.96 | N169: 110.6482 | O169: 8.14 | P169: 32296.14 | Q169: 2965.23 | R169: 1406.54 | S169: 1573.7 | T169: 105.53 | U169: 204.97 | V169: 2407.84 | W169: 7007.28 | X169: 7087.47 | Y169: 81.45 | Z169: 1402.37 | AA169: 9588.84 | AB169: 292.48
A170: 073/KM.1/2011 | B170: 14/02/11 s/d 20/02/11 | C170: 40588 | D170: 8932.25 | E170: 9045.47 | F170: 7012.01 | G170: 8999.52 | H170: 1356.07 | I170: 1636.15 | J170: 12198.77 | K170: 1147.38 | L170: 196.49 | M170: 14379.14 | N170: 108.5097 | O170: 8.06 | P170: 31889.12 | Q170: 2941.02 | R170: 1391.32 | S170: 1548.53 | T170: 104.67 | U170: 205.15 | V170: 2381.74 | W170: 6901.5 | X170: 7012.56 | Y170: 80.52 | Z170: 1386.34 | AA170: 9319.23 | AB170: 290.69
A171: 89/KM.1/2011 | B171: 21/02/11 s/d 27/02/11 | C171: 40595 | D171: 8901 | E171: 8947.29 | F171: 6962.06 | G171: 9021.53 | H171: 1350.76 | I171: 1618.06 | J171: 12063.53 | K171: 1142.51 | L171: 195.82 | M171: 14349.84 | N171: 106.6218 | O171: 7.96 | P171: 31743.94 | Q171: 2921.71 | R171: 1386.45 | S171: 1546.07 | T171: 104.44 | U171: 204.2 | V171: 2373.41 | W171: 6732.36 | X171: 6961.74 | Y171: 80.37 | Z171: 1382.69 | AA171: 9278.64 | AB171: 290.45
A172: 102/KM.11/2011 | B172: 28/02/11 s/d 06/03/11 | C172: 40602 | D172: 8866 | E172: 8919.55 | F172: 6940.33 | G172: 8995.17 | H172: 1348.11 | I172: 1633.99 | J172: 12181.88 | K172: 1137.7 | L172: 196.08 | M172: 14336.32 | N172: 107.5188 | O172: 7.87 | P172: 31718.09 | Q172: 2906.79 | R172: 1381 | S172: 1570.96 | T172: 103.76 | U172: 202.93 | V172: 2364 | W172: 6654.82 | X172: 6940.55 | Y172: 80.02 | Z172: 1383.31 | AA172: 9493.12 | AB172: 289.66
A173: 120/KM.1/2011 | B173: 07/03/11 s/d 13/03/11 | C173: 40609 | D173: 8809 | E173: 8944.13 | F173: 6939.5 | G173: 9049.91 | H173: 1340.47 | I173: 1638.8 | J173: 12219.67 | K173: 1130.91 | L173: 195.36 | M173: 14340.17 | N173: 107.3849 | O173: 7.84 | P173: 7.84 | Q173: 2900.48 | R173: 1372.12 | S173: 1579.29 | T173: 102.89 | U173: 202.78 | V173: 2348.74 | W173: 6562.18 | X173: 6938.84 | Y173: 79.55 | Z173: 1392.41 | AA173: 9482.44 | AB173: 288.59
A174: 141/KM.1/2011 | B174: 14/03/11 s/d 20/03/11 | C174: 40616 | D174: 8786.8 | E174: 8851.12 | F174: 6922.01 | G174: 9033.04 | H174: 1337.37 | I174: 1635.12 | J174: 12195.38 | K174: 1128.23 | L174: 194.9 | M174: 14180.84 | N174: 106.2517 | O174: 7.85 | P174: 31596.97 | Q174: 2896.68 | R174: 1368.66 | S174: 1568.58 | T174: 103.07 | U174: 202.25 | V174: 2343.01 | W174: 6474.29 | X174: 6922.88 | Y174: 79.83 | Z174: 1379.88 | AA174: 9438.43 | AB174: 289.25
... A213: 1529/KM.1/2011 | B213: 26/12/11 s/d 01/01/12 | C213: 40903 | D213: 9069 | E213: 9134.48 | F213: 6989.06 | G213: 8831.61 | H213: 1430.31 | I213: 1592.87 | J213: 11840.49 | K213: 1165.32 | L213: 171.93 | M213: 14187.54 | N213: 116.2484 | O213: 7.83 | P213: 32580.4 | Q213: 2860.74 | R213: 1409.33 | S213: 1529.24 | T213: 100.91 | U213: 207.4 | V213: 2418.27 | W213: 6972.79 | X213: 6991.32 | Y213: 79.66 | Z213: 1318.83 | AA213: 9702.79 | AB213: 290
B214: 2012
A215: 1529/KM.1/2011 | B215: 26/12/11 s/d 01/01/12 | C215: 40903 | D215: 9069 | E215: 9134.48 | F215: 6989.06 | G215: 8831.61 | H215: 1430.31 | I215: 1592.87 | J215: 11840.49 | K215: 1165.32 | L215: 171.93 | M215: 14187.54 | N215: 116.2484 | O215: 7.83 | P215: 32580.4 | Q215: 2860.74 | R215: 1409.33 | S215: 1529.24 | T215: 100.91 | U215: 207.4 | V215: 2418.27 | W215: 6972.79 | X215: 6991.32 | Y215: 79.66 | Z215: 1318.83 | AA215: 9702.79 | AB215: 290
B216: 02/01/12 s/d 08/01/12 | C216: 40910 | D216: 9076 | E216: 9208.83 | F216: 6992.31 | G216: 8896.6 | H216: 1435.87 | I216: 1588.86 | J216: 11811.89 | K216: 1167.21 | L216: 171.36 | M216: 14113.47 | N216: 116.629 | O216: 7.86 | P216: 32594.16 | Q216: 2866.53 | R216: 1410.84 | S216: 1517.43 | T216: 101.06 | U216: 207.16 | V216: 2420.05 | W216: 7014.89 | X216: 6994.9 | Y216: 79.44 | Z216: 1318.78 | AA216: 9682.09 | AB216: 287.6
B217: 09/01/12 s/d 15/01/12 | C217: 40917 | D217: 9136 | E217: 9389.73 | F217: 7076.99 | G217: 8985.88 | H217: 1450.39 | I217: 1587.74 | J217: 11806.04 | K217: 1176.16 | L217: 171.96 | M217: 14207.74 | N217: 118.8453 | O217: 7.92 | P217: 32822.48 | Q217: 2899.32 | R217: 1420.76 | S217: 1530.08 | T217: 101.19 | U217: 208.09 | V217: 2435.98 | W217: 7152.47 | X217: 7074.8 | Y217: 80.2 | Z217: 1328.16 | AA217: 9695.61 | AB217: 289.55
B218: 16/01/12 s/d 22/01/12 | C218: 40924 | D218: 9177 | E218: 9447.26 | F218: 7102.43 | G218: 8994.33 | H218: 1452.91 | I218: 1575.97 | J218: 11719.84 | K218: 1181.48 | L218: 176.72 | M218: 14115.38 | N218: 119.4507 | O218: 7.92 | P218: 32852.81 | Q218: 2921.07 | R218: 1429.72 | S218: 1525.69 | T218: 101.71 | U218: 208.66 | V218: 2446.84 | W218: 7267 | X218: 7106.28 | Y218: 80.6 | Z218: 1325.92 | AA218: 9669.74 | AB218: 289.42
B219: 23/01/12 s/d 29/01/12 | C219: 40931 | D219: 9060 | E219: 9413.78 | F219: 7078.5 | G219: 8939.06 | H219: 1434.65 | I219: 1563.99 | J219: 11630.2 | K219: 1167.01 | L219: 178.72 | M219: 13963.85 | N219: 117.7437 | O219: 7.93 | P219: 32453.38 | Q219: 2906.38 | R219: 1408.76 | S219: 1515.83 | T219: 100.39 | U219: 208.08 | V219: 2415.64 | W219: 7253.88 | X219: 7079.38 | Y219: 79.57 | Z219: 1322.1 | AA219: 9620.66 | AB219: 285.76
B220: 30/01/12 s/d 05/02/12 | C220: 40938 | D220: 9060 | E220: 9413.78 | F220: 7078.5 | G220: 8939.06 | H220: 1434.65 | I220: 1563.99 | J220: 11630.2 | K220: 1167.01 | L220: 178.72 | M220: 13963.85 | N220: 117.7437 | O220: 7.93 | P220: 32453.38 | Q220: 2906.38 | R220: 1408.76 | S220: 1515.83 | T220: 100.39 | U220: 208.08 | V220: 2415.64 | W220: 7253.88 | X220: 7079.38 | Y220: 79.57 | Z220: 1322.1 | AA220: 9620.66 | AB220: 285.76
B221: 06/02/12 s/d 12/02/12 | C221: 40945 | E221: 9463.45 | F221: 7089.59 | G221: 8904.41 | H221: 1417.59 | I221: 1573.99 | J221: 11702.25 | K221: 1153.69 | L221: 178.72 | M221: 14003.52 | N221: 115.5552 | O221: 7.95 | P221: 32148.54 | Q221: 2917.79 | R221: 1391.42 | S221: 1529.3 | T221: 99.25 | U221: 207.87 | V221: 2386.92 | W221: 7306.12 | X221: 7088.47 | Y221: 78.6 | Z221: 1323.7 | AA221: 9690.19 | AB221: 285.56
B222: 13/02/12 s/d 19/02/12 | C222: 40952 | D222: 8966 | E222: 9664.81 | F222: 7188.67 | G222: 9008.7 | H222: 1422.81 | I222: 1598.17 | J222: 11878.87 | K222: 1156.24 | L222: 182.12 | M222: 14200.71 | N222: 116.2755 | O222: 8.02 | P222: 32287.8 | Q222: 2976.19 | R222: 1392.91 | S222: 1555.09 | T222: 98.94 | U222: 211.86 | V222: 2390.79 | W222: 7486.07 | X222: 7188.56 | Y222: 78.27 | Z222: 1347.32 | AA222: 9819.3 | AB222: 290.93
B223: 20/02/12 s/d 26/02/12 | C223: 40959 | D223: 9029 | E223: 9654.18 | F223: 7146.33 | G223: 9021.96 | H223: 1433.12 | I223: 1590.5 | J223: 11822.37 | K223: 1164.33 | L223: 183.19 | M223: 14179.26 | N223: 115.3102 | O223: 8.03 | P223: 32494.15 | Q223: 2968.29 | R223: 1403.94 | S223: 1567.11 | T223: 99.46 | U223: 211.66 | V223: 2407.43 | W223: 7507.42 | X223: 7147.32 | Y223: 75.97 | Z223: 1345.56 | AA223: 9791.24 | AB223: 292.94
B224: 27/02/12 s/d 04/03/12 | C224: 40966 | D224: 9054 | E224: 9666.61 | F224: 7205.13 | G224: 9080.26 | H224: 1437.26 | I224: 1612.94 | J224: 11993.52 | K224: 1167.45 | L224: 183.78 | M224: 14255.93 | N224: 113.2045 | O224: 8.05 | P224: 32587.53 | Q224: 2995.26 | R224: 1407.55 | S224: 1597.99 | T224: 99.68 | U224: 212.2 | V224: 2414.05 | W224: 7543.85 | X224: 7205.42 | Y224: 76.36 | Z224: 1359.65 | AA224: 9938.52 | AB224: 295.76
B225: 05/03/12 s/d 11/03/12 | C225: 40973 | D225: 9106 | E225: 9796.79 | F225: 7274.16 | G225: 9175.67 | H225: 1445.55 | I225: 1637.53 | J225: 12176 | K225: 1174.01 | L225: 185.29 | M225: 14472.34 | N225: 112.5842 | O225: 8.11 | P225: 32833.9 | Q225: 3027.14 | R225: 1418.25 | S225: 1629.79 | T225: 100.11 | U225: 212.32 | V225: 2427.89 | W225: 7624.51 | X225: 7273.29 | Y225: 74.73 | Z225: 1380.29 | AA225: 10104.03 | AB225: 298.95
B226: 12/03/12 s/d 18/03/12 | C226: 40980 | D226: 9142 | E226: 9699.13 | F226: 7272.94 | G226: 9182.27 | H226: 1448.65 | I226: 1623.41 | J226: 12069.34 | K226: 1177.91 | L226: 182.2 | M226: 14435.89 | N226: 112.5218 | O226: 8.16 | P226: 32842.34 | Q226: 3029.33 | R226: 1421.57 | S226: 1623.19 | T226: 100.6 | U226: 213.39 | V226: 2437.57 | W226: 7496.21 | X226: 7270.74 | Y226: 75.23 | Z226: 1356.5 | AA226: 10011.5 | AB226: 298.08
B227: 19/03/12 s/d 25/03/12 | C227: 40987 | D227: 9177 | E227: 9646.86 | F227: 7270.18 | G227: 9256.23 | H227: 1450.4 | I227: 1615.11 | J227: 12008.29 | K227: 1182.4 | L227: 183.35 | M227: 14382.38 | N227: 110.4704 | O227: 8.16 | P227: 32902.5 | Q227: 3013.77 | R227: 1426.68 | S227: 1599.01 | T227: 101.12 | U227: 214.25 | V227: 2447.05 | W227: 7502.56 | X227: 7270.06 | Y227: 73.96 | Z227: 1348.46 | AA227: 9939.13 | AB227: 298.83
B228: 26/03/12 s/d 01/04/12 | C228: 40994 | D228: 9164 | E228: 9626.03 | F228: 7260.66 | G228: 9249.75 | H228: 1449.19 | I228: 1629.99 | J228: 12119.65 | K228: 1180.35 | L228: 181.71 | M228: 14544.99 | N228: 109.7951 | O228: 8.13 | P228: 32905.42 | Q228: 2984.66 | R228: 1424.11 | S228: 1595.07 | T228: 101 | U228: 213.1 | V228: 2443.4 | W228: 7498.49 | X228: 7262.39 | Y228: 70.39 | Z228: 1363.1 | AA228: 10051 | AB228: 298
B229: 02/04/12 s/d 08/04/12 | C229: 41001 | D229: 9180 | E229: 9564.27 | F229: 7295.56 | G229: 9216.87 | H229: 1455.18 | I229: 1643.51 | J229: 12222.25 | K229: 1182.19 | L229: 179.85 | M229: 14625.58 | N229: 111.0923 | O229: 8.07 | P229: 33034.06 | Q229: 2992.37 | R229: 1429.29 | S229: 1602.88 | T229: 101.13 | U229: 213.67 | V229: 2447.79 | W229: 7510.34 | X229: 7296.14 | Y229: 71.19 | Z229: 1375.44 | AA229: 10140.28 | AB229: 298.05
B230: 09/04/12 s/d 15/04/12 | C230: 41008 | D230: 9152 | E230: 9447.61 | F230: 7288.07 | G230: 9210.02 | H230: 1454.13 | I230: 1624.95 | J230: 12090.48 | K230: 1178.58 | L230: 179.8 | M230: 14581.2 | N230: 111.0545 | O230: 8.12 | P230: 32929.55 | Q230: 2993.17 | R230: 11.17 | S230: 1598.24 | T230: 101.06 | U230: 213.95 | V230: 2440.36 | W230: 7489.31 | X230: 7282.28 | Y230: 72.47 | Z230: 1374.08 | AA230: 10043.62 | AB230: 295.97
B231: 16/04/12 s/d 22/04/12 | C231: 41015 | D231: 9169 | E231: 9495.37 | F231: 7295.26 | G231: 9184.78 | H231: 1453.28 | I231: 1619.61 | J231: 12048 | K231: 1180.77 | L231: 178.34 | M231: 14595.3 | N231: 113.1995 | O231: 8.05 | P231: 32934.89 | Q231: 2986.07 | R231: 11.16 | S231: 1585.93 | T231: 101.08 | U231: 214.27 | V231: 2444.67 | W231: 7541.99 | X231: 7298.05 | Y231: 71.72 | Z231: 1354.9 | AA231: 10026.3 | AB231: 297.11
B232: 23/04/12 s/d 29/04/12 | C232: 41022 | D232: 9182 | E232: 9502.36 | F232: 7345.55 | G232: 9233.28 | H232: 1455.8 | I232: 1620.86 | J232: 12057.49 | K232: 1183.06 | L232: 177.34 | M232: 14679.64 | N232: 113.1303 | O232: 8.06 | P232: 32979.63 | Q232: 2993.86 | R232: 11.16 | S232: 1597.01 | T232: 101.18 | U232: 215.11 | V232: 2448.17 | W232: 7498.47 | X232: 7343.2 | Y232: 71.23 | Z232: 1360.14 | AA232: 10032.12 | AB232: 297.63
B233: 30/04/12 s/d 06/05/12 | C233: 41029 | D233: 9194 | E233: 9515.7 | F233: 7390.98 | G233: 9321.09 | H233: 1457.71 | I233: 1630.99 | J233: 12133.74 | K233: 1184.68 | L233: 174.84 | M233: 14857.5 | N233: 113.2335 | O233: 8.08 | P233: 33072.04 | Q233: 3005.83 | R233: 11.18 | S233: 1602.71 | T233: 101.16 | U233: 215.76 | V233: 2451.37 | W233: 7480.14 | X233: 7389.91 | Y233: 69.88 | Z233: 1365.65 | AA233: 10097.54 | AB233: 297.4
... B249: 20/08/12 s/d 26/08/12 | C249: 41141 | D249: 9488 | E249: 10002.57 | F249: 7614.29 | G249: 9560.63 | H249: 1491.67 | I249: 1570.96 | J249: 11692.65 | K249: 1223.07 | L249: 171.27 | M249: 14876.24 | N249: 120.9079 | O249: 8.4 | P249: 33592.34 | Q249: 3044.09 | R249: 10.86 | S249: 1602.15 | T249: 100.6 | U249: 226.33 | V249: 2529.84 | W249: 7687.07 | X249: 7615.51 | Y249: 71.9 | Z249: 1419.54 | AA249: 9735.46 | AB249: 301.55
B250: 27/08/12 s/d 02/09/12 | C250: 41148
B251: 03/09/12 s/d 09/09/12 | C251: 41155 | D251: 9565 | E251: 9885.81 | F251: 7634.29 | G251: 9655.18 | H251: 1505.62 | I251: 1607.76 | J251: 11978.06 | K251: 1233.24 | L251: 171.86 | M251: 15116.33 | N251: 121.6457 | O251: 8.43 | P251: 33905.82 | Q251: 3064.11 | R251: 10.95 | S251: 1642.15 | T251: 100.98 | U251: 226.35 | V251: 2550.55 | W251: 7672.66 | X251: 7633.31 | Y251: 72.25 | Z251: 1438.54 | AA251: 9973.52 | AB251: 305.32
B252: 10/09/12 s/d 16/09/12 | C252: 41162 | D252: 9579 | E252: 9815.22 | F252: 7691.89 | G252: 9718.39 | H252: 1509.58 | I252: 1620.24 | J252: 12073 | K252: 1234.86 | L252: 171.99 | M252: 15232.67 | N252: 121.9103 | O252: 8.45 | P252: 33965.73 | Q252: 3076.3 | R252: 11.01 | S252: 1643.38 | T252: 101.14 | U252: 228.45 | V252: 2553.98 | W252: 7642.87 | X252: 7691.89 | Y252: 72.37 | Z252: 1424.01 | AA252: 10034.62 | AB252: 306.9
B253: 17/09/12 s/d 23/09/12 | C253: 41169 | D253: 9583 | E253: 9984.69 | F253: 7778.72 | G253: 9815.42 | H253: 1512.84 | I253: 1652.02 | J253: 12312.87 | K253: 1235.65 | L253: 173.12 | M253: 15387.16 | N253: 122.8759 | O253: 8.49 | P253: 34033.05 | Q253: 3098.96 | R253: 11.03 | S253: 1666.39 | T253: 101.24 | U253: 230.28 | V253: 2555.17 | W253: 7821.13 | X253: 7778.97 | Y253: 72.51 | Z253: 1452.96 | AA253: 10187.32 | AB253: 308.68
B254: 24/09/12 s/d 30/09/12 | C254: 41176 | D254: 9533 | E254: 9967.31 | F254: 7786.33 | G254: 9778.43 | H254: 1510.64 | I254: 1665.85 | J254: 12419.33 | K254: 1229.6 | L254: 176.11 | M254: 15467.73 | N254: 121.4617 | O254: 8.52 | P254: 33982.6 | Q254: 3114.97 | R254: 11.02 | S254: 1666.87 | T254: 100.82 | U254: 228.68 | V254: 2541.93 | W254: 7893.16 | X254: 7784.8 | Y254: 72.34 | Z254: 1456.71 | AA254: 10248.34 | AB254: 309.15
B255: 01/10/12 s/d 07/10/12 | C255: 41183 | D255: 9585 | E255: 9975.46 | F255: 7803.02 | G255: 9770.63 | H255: 1520.18 | I255: 1659.66 | J255: 12374.68 | K255: 1236.11 | L255: 179.39 | M255: 15522.07 | N255: 123.1099 | O255: 8.56 | P255: 34124.2 | Q255: 3122.04 | R255: 11.12 | S255: 1668.15 | T255: 101.26 | U255: 229.12 | V255: 2555.78 | W255: 7904.8 | X255: 7802 | Y255: 73.34 | Z255: 1457.61 | AA255: 10229.03 | AB255: 309.88
B256: 08/10/12 s/d 16/10/12 | C256: 41190 | D256: 9593 | E256: 9911.57 | F256: 7804.23 | G256: 9751.68 | H256: 1522.77 | I256: 1659.33 | J256: 12371.42 | K256: 1237 | L256: 182.93 | M256: 15490.08 | N256: 122.9124 | O256: 8.61 | P256: 34134.23 | Q256: 3133.77 | R256: 11.15 | S256: 1675.06 | T256: 101.04 | U256: 229.93 | V256: 2557.79 | W256: 7934.97 | X256: 7804.48 | Y256: 74.15 | Z256: 1454.3 | AA256: 10225.93 | AB256: 311.7
B257: 17/10/12 s/d 23/10/12 | C257: 41199 | D257: 9612 | E257: 9851.33 | F257: 7849.19 | G257: 9800.76 | H257: 1531.08 | I257: 1666.61 | J257: 12431.71 | K257: 1239.95 | L257: 181.72 | M257: 15430.4 | N257: 122.4839 | O257: 8.65 | P257: 34196.87 | Q257: 3138.06 | R257: 11.25 | S257: 1682.17 | T257: 100.65 | U257: 231.68 | V257: 2562.91 | W257: 7850.15 | X257: 7848.29 | Y257: 74.83 | Z257: 1438.22 | AA257: 10284.18 | AB257: 313.91
B258: 24/10/12 s/d 30/10/12 | C258: 41206 | D258: 9614 | E258: 9922.33 | F258: 7883.65 | G258: 9761.34 | H258: 1536.05 | I258: 1680.84 | J258: 12538.07 | K258: 1240.27 | L258: 180.68 | M258: 15453.93 | N258: 121.6641 | O258: 8.69 | P258: 34233.46 | Q258: 3154.96 | R258: 11.28 | S258: 1698.27 | T258: 100.77 | U258: 232.61 | V258: 2563.33 | W258: 7860.88 | X258: 7881.84 | Y258: 74.66 | Z258: 1456.25 | AA258: 10370.41 | AB258: 313.42
B259: 31/10/12 s/d 06/11/12 | C259: 41213 | D259: 9618 | E259: 9937.36 | F259: 7871.23 | G259: 9676.11 | H259: 1539.11 | I259: 1673.46 | J259: 12482.63 | K259: 1240.96 | L259: 179.05 | M259: 15432.81 | N259: 120.3586 | O259: 8.73 | P259: 34199.74 | Q259: 3151.49 | R259: 11.3 | S259: 1675.75 | T259: 100.55 | U259: 232.71 | V259: 2564.58 | W259: 7868.56 | X259: 7869.43 | Y259: 74.04 | Z259: 1442.54 | AA259: 10315.6 | AB259: 313.06
B260: 07/11/12 s/d 13/11/12 | C260: 41220 | D260: 9629 | E260: 9979.47 | F260: 7875.12 | G260: 9656.8 | H260: 1542.61 | I260: 1661.54 | J260: 12395.28 | K260: 1242.37 | L260: 178.36 | M260: 15454.29 | N260: 120.1233 | O260: 8.82 | P260: 34221.33 | Q260: 3150.25 | R260: 11.3 | S260: 1683.33 | T260: 100.43 | U260: 233.63 | V260: 2567.35 | W260: 7936.66 | X260: 7872.03 | Y260: 73.89 | Z260: 1442.14 | AA260: 10266.78 | AB260: 313.02
B261: 14/11/12 s/d 20/11/12 | C261: 41227 | D261: 9632 | E261: 10025.56 | F261: 7872.63 | G261: 9635.47 | H261: 1544.28 | I261: 1643.6 | J261: 12259.42 | K261: 1242.69 | L261: 176.56 | M261: 15336.65 | N261: 120.9989 | O261: 8.85 | P261: 34164.81 | Q261: 3146.79 | R261: 11.33 | S261: 1677.94 | T261: 100.36 | U261: 234.53 | V261: 2568.29 | W261: 7864.34 | X261: 7871.47 | Y261: 73.72 | Z261: 1432.03 | AA261: 10167.2 | AB261: 314.07
B262: 21/11/12 s/d 27/11/12 | C262: 41234 | D262: 9632 | E262: 10002.82 | F262: 7865.01 | G262: 9636.04 | H262: 1545.58 | I262: 1648.04 | J262: 12292.1 | K262: 1242.56 | L262: 175.26 | M262: 15301.85 | N262: 118.9199 | O262: 8.86 | P262: 34125.31 | Q262: 3143.35 | R262: 11.33 | S262: 1671.37 | T262: 100.37 | U262: 233.77 | V262: 2568.29 | W262: 7853 | X262: 7866.55 | Y262: 74.04 | Z262: 1423.21 | AA262: 10205.99 | AB262: 313.64
... B267: 26/12/12 s/d 01/01/13 | C267: 41269 | D267: 9708 | E267: 10196.51 | F267: 7964.3 | G267: 9837.26 | H267: 1557.61 | I267: 1719.26 | J267: 12826.99 | K267: 1252.63 | L267: 177.22 | M267: 15775.11 | N267: 115.3928 | O267: 9.04 | P267: 34525.62 | Q267: 3175.66 | R267: 11.36 | S267: 1739.78 | T267: 99.36 | U267: 236.29 | V267: 2588.64 | W267: 8131.23 | X267: 7964.17 | Y267: 75.69 | Z267: 1478.02 | AA267: 10619.59 | AB267: 317.07
B268: 2013
B269: 02/01/13 s/d 08/01/13 | C269: 41276 | D269: 9771 | E269: 10140.32 | F269: 7997.94 | G269: 9835.12 | H269: 1567.18 | I269: 1732.43 | J269: 12922.6 | K269: 1260.55 | L269: 177.95 | M269: 15782.06 | N269: 114.4715 | O269: 9.11 | P269: 34738.68 | Q269: 3188.42 | R269: 11.39 | S269: 1753.15 | T269: 100.1 | U269: 237.5 | V269: 2605.2 | W269: 8024.01 | X269: 7996.1 | Y269: 76.9 | Z269: 1499.39 | AA269: 10697.66 | AB269: 318.99
B270: 09/01/13 s/d 15/01/13 | C270: 41283 | D270: 9738 | E270: 10195.45 | F270: 7951.36 | G270: 9860.46 | H270: 1562.37 | I270: 1714.11 | J270: 12789.88 | K270: 1256.26 | L270: 178.17 | M270: 15741.29 | N270: 111.4348 | O270: 9.16 | P270: 34572.08 | Q270: 3200.57 | R270: 11.35 | S270: 1746.26 | T270: 99.96 | U270: 238.36 | V270: 2596.33 | W270: 8096.65 | X270: 7952.27 | Y270: 76.41 | Z270: 1494.84 | AA270: 10581.6 | AB270: 319.74
B271: 16/01/13 s/d 22/01/13 | C271: 41290 | D271: 9821 | E271: 10344.25 | F271: 8006 | G271: 9966.11 | H271: 1578.7 | I271: 1737.96 | J271: 12968.17 | K271: 1266.91 | L271: 179.3 | M271: 15805.99 | N271: 111.1604 | O271: 9.27 | P271: 34828.31 | Q271: 3240.87 | R271: 11.51 | S271: 1765.64 | T271: 100.9 | U271: 241.24 | V271: 2618.67 | W271: 8234.94 | X271: 8007.44 | Y271: 77.68 | Z271: 1507.62 | AA271: 10684.31 | AB271: 323.82
B272: 23/01/13 s/d 29/01/13 | C272: 41297 | D272: 9763 | E272: 10290.58 | F272: 7962.87 | G272: 9882.18 | H272: 1570.21 | I272: 1742.65 | J272: 13005.22 | K272: 1259.33 | L272: 179.95 | M272: 15581.82 | N272: 109.2696 | O272: 9.22 | P272: 34672.97 | Q272: 3236.21 | R272: 11.37 | S272: 1748.9 | T272: 99.99 | U272: 240.2 | V272: 2603.29 | W272: 8180.05 | X272: 7961.05 | Y272: 77.12 | Z272: 1500.64 | AA272: 10466.8 | AB272: 327.5
B273: 30/01/13 s/d 05/02/13 | C273: 41304 | D273: 9666 | E273: 10133.61 | F273: 7856.17 | G273: 9651.32 | H273: 1553.58 | I273: 1733.96 | J273: 12939.53 | K273: 1246.55 | L273: 179.92 | M273: 15277.83 | N273: 107.4935 | O273: 9.03 | P273: 34314.72 | Q273: 3173 | R273: 11.27 | S273: 1743.59 | T273: 98.92 | U273: 237.79 | V273: 2577.39 | W273: 8107.7 | X273: 7854.64 | Y273: 76.08 | Z273: 1489.86 | AA273: 10410.13 | AB273: 323.89
B274: 06/02/13 s/d 12/02/13 | C274: 41311 | D274: 9705 | E274: 10119 | F274: 7836.69 | G274: 9695.49 | H274: 1559.09 | I274: 1764.04 | J274: 13160.68 | K274: 1251.06 | L274: 181.82 | M274: 15271.86 | N274: 105.8944 | O274: 8.92 | P274: 34505.04 | Q274: 3132.91 | R274: 11.31 | S274: 1769.11 | T274: 99.31 | U274: 238.67 | V274: 2587.79 | W274: 8148.73 | X274: 7839.22 | Y274: 76.77 | Z274: 1527.61 | AA274: 10621.66 | AB274: 325.69
...
