Workbook
Name Kurs_2007: #REF!
Name Kurs2006: #REF!

Sheet Kurs Pajak
B1: KURS PAJAK MINGGUAN
B3: Tanggal | C3: 42490
B5: Negara | C5: Mata Uang | D5: Kurs
B6: Amerika Serikat | C6: 1 USD | D6: =OFFSET(Table1[[#Headers],[Tgl]],MATCH($C$3,Table1[Tgl],1),MATCH($C6,'Tabel Kurs Pajak'!$D$2:$AB$2,0)) -> 13173
B7: Australia | C7: 1 AUD | D7: =OFFSET(Table1[[#Headers],[Tgl]],MATCH($C$3,Table1[Tgl],1),MATCH($C7,'Tabel Kurs Pajak'!$D$2:$AB$2,0)) -> 10209.25
B8: Brunei Darussalam | C8: 1 BND | D8: =OFFSET(Table1[[#Headers],[Tgl]],MATCH($C$3,Table1[Tgl],1),MATCH($C8,'Tabel Kurs Pajak'!$D$2:$AB$2,0)) -> 9771.95
B9: Canada | C9: 1 CAD | D9: =OFFSET(Table1[[#Headers],[Tgl]],MATCH($C$3,Table1[Tgl],1),MATCH($C9,'Tabel Kurs Pajak'!$D$2:$AB$2,0)) -> 10385.71
B10: China | C10: 1 CNY | D10: =OFFSET(Table1[[#Headers],[Tgl]],MATCH($C$3,Table1[Tgl],1),MATCH($C10,'Tabel Kurs Pajak'!$D$2:$AB$2,0)) -> 2033.52
B11: Denmark | C11: 1 DKK | D11: =OFFSET(Table1[[#Headers],[Tgl]],MATCH($C$3,Table1[Tgl],1),MATCH($C11,'Tabel Kurs Pajak'!$D$2:$AB$2,0)) -> 1996.55
B12: Euro | C12: 1 EUR | D12: =OFFSET(Table1[[#Headers],[Tgl]],MATCH($C$3,Table1[Tgl],1),MATCH($C12,'Tabel Kurs Pajak'!$D$2:$AB$2,0)) -> 14857.71
B13: Hongkong | C13: 1 HKD | D13: =OFFSET(Table1[[#Headers],[Tgl]],MATCH($C$3,Table1[Tgl],1),MATCH($C13,'Tabel Kurs Pajak'!$D$2:$AB$2,0)) -> 1698.21
B14: India | C14: 1 INR | D14: =OFFSET(Table1[[#Headers],[Tgl]],MATCH($C$3,Table1[Tgl],1),MATCH($C14,'Tabel Kurs Pajak'!$D$2:$AB$2,0)) -> 198.48
B15: Inggris | C15: 1 GBP | D15: =OFFSET(Table1[[#Headers],[Tgl]],MATCH($C$3,Table1[Tgl],1),MATCH($C15,'Tabel Kurs Pajak'!$D$2:$AB$2,0)) -> 18939.52
B16: Jepang | C16: 1 JPY | D16: =OFFSET(Table1[[#Headers],[Tgl]],MATCH($C$3,Table1[Tgl],1),MATCH($C16,'Tabel Kurs Pajak'!$D$2:$AB$2,0)) -> 119.4064
B17: Korea | C17: 1 KRW | D17: =OFFSET(Table1[[#Headers],[Tgl]],MATCH($C$3,Table1[Tgl],1),MATCH($C17,'Tabel Kurs Pajak'!$D$2:$AB$2,0)) -> 11.56
... B30: Thailand | C30: 1 THB | D30: =OFFSET(Table1[[#Headers],[Tgl]],MATCH($C$3,Table1[Tgl],1),MATCH($C30,'Tabel Kurs Pajak'!$D$2:$AB$2,0)) -> 376.4

Sheet Tabel Kurs Pajak
A1: No KMK | B1: Tanggal | C1: Tgl | D1: Amerika Serikat | E1: Australia | F1: Brunei Darussalam | G1: Canada | H1: China | I1: Denmark | J1: Euro | K1: Hongkong | L1: India | M1: Inggris | N1: Jepang | O1: Korea | P1: Kuwait | Q1: Malaysia | R1: Burma (Myanmar) | S1: Norwegia | T1: Pakistan | U1: Philipina | V1: Saudi Arabia | W1: Selandia Baru | X1: Singapura | Y1: Sri Lanka | Z1: Swedia | AA1: Swiss | AB1: Thailand
D2: 1 USD | E2: 1 AUD | F2: 1 BND | G2: 1 CAD | H2: 1 CNY | I2: 1 DKK | J2: 1 EUR | K2: 1 HKD | L2: 1 INR | M2: 1 GBP | N2: 1 JPY | O2: 1 KRW | P2: 1 KWD | Q2: 1 MYR | R2: 1 MMK | S2: 1 NOK | T2: 1 PKR | U2: 1 PHP | V2: 1 SAR | W2: 1 NZD | X2: 1 SGD | Y2: 1 LKR | Z2: 1 SEK | AA2: 1 CHF | AB2: 1 THB
B3: 2008
A4: 875 /KM.1/2007 | B4: 31/12/07 s/d 06/01/08 | C4: 39447 | D4: 9412.2 | E4: 8229.65 | F4: 6497.71 | G4: 9581.02 | H4: 1283.58 | I4: 1843.94 | J4: 13651.27 | K4: 1206 | L4: 240.01 | M4: 18696.58 | N4: 82.5024 | O4: 10.02 | P4: 34412.7 | Q4: 2821.83 | R4: 1466.04 | S4: 1721.49 | T4: 153.32 | U4: 227.42 | V4: 2510.23 | W4: 7234.03 | X4: 6486.7 | Y4: 86.59 | Z4: 1451.74 | AA4: 8190.5 | AB4: 315.17
A5: 008/KM.1/2008 | B5: 07/01/08 s/d 13/01/08 | C5: 39454 | D5: 9403.6 | E5: 8267.08 | F5: 6491.78 | G5: 9471.61 | H5: 1289.89 | I5: 1842.26 | J5: 13802.42 | K5: 1205.1 | L5: 239.79 | M5: 18609.16 | N5: 85.2424 | O5: 10.04 | P5: 34381.25 | Q5: 2850.42 | R5: 1464.7 | S5: 1719.92 | T5: 153.18 | U5: 228.76 | V5: 2507.94 | W5: 7240.21 | X5: 6542.91 | Y5: 86.51 | Z5: 1450.41 | AA5: 8383.35 | AB5: 314.94
A6: 015/KM.1/2008 | B6: 14/01/08 s/d 20/01/08 | C6: 39461 | D6: 9459 | E6: 8306.58 | F6: 6594.44 | G6: 9411.63 | H6: 1299.52 | I6: 1871.18 | J6: 13911.35 | K6: 1212.37 | L6: 241.87 | M6: 18652.52 | N6: 86.7612 | O6: 10.06 | P6: 34635.74 | Q6: 2887.07 | R6: 1473.33 | S6: 1770.54 | T6: 151.91 | U6: 232.06 | V6: 2521.01 | W6: 7272.39 | X6: 6599.3 | Y6: 87.12 | Z6: 1486.86 | AA6: 8496.62 | AB6: 317.45
A7: 034/KM.1/2008 | B7: 21/01/08 s/d 27/01/08 | C7: 39468 | D7: 9454 | E7: 8340.32 | F7: 6617.76 | G7: 9231.88 | H7: 1304.62 | I7: 1889.1 | J7: 13917.04 | K7: 1211.64 | L7: 241.93 | M7: 18576.73 | N7: 88.2166 | O7: 10.02 | P7: 34636.43 | Q7: 2887.28 | R7: 1472.56 | S7: 1795.6 | T7: 151.26 | U7: 232.63 | V7: 2521.38 | W7: 7317.77 | X7: 6594.31 | Y7: 87.35 | Z7: 1499.97 | AA7: 8611.61 | AB7: 315.53
A8: 048/KM.1/2008 | B8: 28/01/08 s/d 03/02/08 | C8: 39475 | D8: 9394.4 | E8: 8205.82 | F8: 6537.56 | G8: 9212.91 | H8: 1298.25 | I8: 1845.53 | J8: 13758.66 | K8: 1203.05 | L8: 239.56 | M8: 18435.57 | N8: 88.0714 | O8: 9.91 | P8: 34395.43 | Q8: 2867.31 | R8: 1463.27 | S8: 1711.57 | T8: 150.4 | U8: 228.98 | V8: 2505.11 | W8: 7179.2 | X8: 6554.2 | Y8: 87.09 | Z8: 1450.78 | AA8: 8587.2 | AB8: 301.86
A9: 082/KM.1/2008 | B9: 04/02/08 s/d 10/02/08 | C9: 39482 | D9: 9285.6 | E9: 8288.33 | F9: 6545.88 | G9: 9286.34 | H9: 1291.68 | I9: 1849.51 | J9: 13769.8 | K9: 1190.34 | L9: 237.25 | M9: 18458.29 | N9: 87.1069 | O9: 9.84 | P9: 34014.55 | Q9: 2868.6 | R9: 1446.33 | S9: 1710.41 | T9: 148.29 | U9: 229.19 | V9: 2476.1 | W9: 7270.25 | X9: 6544.41 | Y9: 86.08 | Z9: 1460.62 | AA9: 8552.95 | AB9: 295.53
A10: 100/KM.1/2008 | B10: 11/02/08 s/d 17/02/08 | C10: 39489 | D10: 9239 | E10: 8298.65 | F10: 6509.98 | G10: 9191.57 | H10: 1285.69 | I10: 1814.17 | J10: 13503.35 | K10: 1184.44 | L10: 234.49 | M10: 18082.94 | N10: 86.3506 | O10: 9.78 | P10: 33792.38 | Q10: 2858.21 | R10: 1439.07 | S10: 1675.31 | T10: 146.99 | U10: 228.4 | V10: 2463.67 | W10: 7280.15 | X10: 6519.47 | Y10: 85.74 | Z10: 1430.01 | AA10: 8407.8 | AB10: 296.22
A11: 110/KM.1/2008 | B11: 18/02/08 s/d 24/02/08 | C11: 39496 | D11: 9241 | E11: 8328.36 | F11: 6524.05 | G11: 9240.63 | H11: 1285.49 | I11: 1814.01 | J11: 13482.99 | K11: 1184.85 | L11: 234.07 | M11: 18133.24 | N11: 85.8255 | O11: 9.77 | P11: 33775.67 | Q11: 2852.62 | R11: 1439.38 | S11: 1708.94 | T11: 146.75 | U11: 225.9 | V11: 2464.11 | W11: 7274.88 | X11: 6518.67 | Y11: 85.66 | Z11: 1449.54 | AA11: 8388.71 | AB11: 288.49
A12: 123/KM.1/2008 | B12: 25/02/08 s/d 02/03/08 | C12: 39503 | D12: 9169 | E12: 8414.21 | F12: 6513.2 | G12: 9058.67 | H12: 1282.55 | I12: 1820.05 | J12: 13516.57 | K12: 1175.51 | L12: 230.51 | M12: 17913.11 | N12: 85.0557 | O12: 9.69 | P12: 33556.71 | Q12: 2846.91 | R12: 1428.16 | S12: 1721.39 | T12: 147.9 | U12: 225.55 | V12: 2444.91 | W12: 7319.98 | X12: 6498.87 | Y12: 84.9 | Z12: 1457.69 | AA12: 8371.99 | AB12: 291.04
A13: 159/KM.1/2008 | B13: 03/03/08 s/d 09/03/08 | C13: 39510 | D13: 9069.2 | E13: 8516.7 | F13: 6510.78 | G13: 9234.87 | H13: 1271.07 | I13: 1847.4 | J13: 13655.86 | K13: 1164.63 | L13: 228.18 | M13: 17979.33 | N13: 85.2497 | O13: 9.64 | P13: 33263.2 | Q13: 2833.33 | R13: 1412.62 | S13: 1751.9 | T13: 145.11 | U13: 224.49 | V13: 2420.39 | W13: 7385.05 | X13: 6483.28 | Y13: 84.07 | Z13: 1468.94 | AA13: 8503.38 | AB13: 303.2
A14: 176/KM.1/2008 | B14: 10/03/08 s/d 16/03/08 | C14: 39517 | D14: 9097.5 | E14: 8496.16 | F14: 6556.57 | G14: 9201.24 | H14: 1280.27 | I14: 1865.99 | J14: 13865.5 | K14: 1168.35 | L14: 226.8 | M14: 18089.7 | N14: 87.765 | O14: 9.59 | P14: 33452.87 | Q14: 2856.36 | R14: 1417.03 | S14: 1773.47 | T14: 144.65 | U14: 223.69 | V14: 2426.94 | W14: 7305.97 | X14: 6548.62 | Y14: 84.42 | Z14: 1488.17 | AA14: 8761.29 | AB14: 288.35
A15: 186/KM.1/2008 | B15: 17/03/08 s/d 23/03/08 | C15: 39524 | D15: 9201 | E15: 8591.53 | F15: 6658.76 | G15: 9298.07 | H15: 1296.32 | I15: 1925.4 | J15: 14254.01 | K15: 1181.6 | L15: 229.01 | M15: 18596.51 | N15: 90.4613 | O15: 9.45 | P15: 34215.94 | Q15: 2896.07 | R15: 1433.15 | S15: 1805.88 | T15: 146.76 | U15: 223.54 | V15: 2458.51 | W15: 7420.61 | X15: 6651.2 | Y15: 85.29 | Z15: 1523.41 | AA15: 9037.25 | AB15: 292.11
... A54: 891 /KM.1/2008 | B54: 22/12/08 s/d 04/01/09 | C54: 39804 | D54: 11062.6 | E54: 7620.14 | F54: 7567.79 | G54: 9162.48 | H54: 1617.52 | I54: 2098.04 | J54: 15629.68 | K54: 1427.42 | L54: 232.2 | M54: 16948.35 | N54: 124.1566 | O54: 8.35 | P54: 40393.91 | Q54: 3146.77 | R54: 1723.15 | S54: 1626.34 | T54: 138.34 | U54: 234.81 | V54: 2948.78 | W54: 6397.94 | X54: 7623.07 | Y54: 99.03 | Z54: 1417 | AA54: 10029.19 | AB54: 319.25
B55: 2009
A56: 891 /KM.1/2008 | B56: 22/12/08 s/d 04/01/09 | C56: 39804 | D56: 11062.6 | E56: 7620.14 | F56: 7567.79 | G56: 9162.48 | H56: 1617.52 | I56: 2098.04 | J56: 15629.68 | K56: 1427.42 | L56: 232.2 | M56: 16948.35 | N56: 124.1566 | O56: 8.35 | P56: 40393.91 | Q56: 3146.77 | R56: 1723.15 | S56: 1626.34 | T56: 138.34 | U56: 234.81 | V56: 2948.78 | W56: 6397.94 | X56: 7623.07 | Y56: 99.03 | Z56: 1417 | AA56: 10029.19 | AB56: 319.25
A57: 001/KM.1/2009 | B57: 05/01/09 s/d 11/01/09 | C57: 39818 | D57: 11125.5 | E57: 7667.69 | F57: 7730.69 | G57: 9144 | H57: 1626.12 | I57: 2095.7 | J57: 15617.98 | K57: 1435.51 | L57: 229.62 | M57: 16040.75 | N57: 123.0153 | O57: 8.81 | P57: 40275.73 | Q57: 3198.36 | R57: 1732.94 | S57: 1578.82 | T57: 140.39 | U57: 234.64 | V57: 2964.01 | W57: 6423.49 | X57: 7726.22 | Y57: 97.97 | Z57: 1427.47 | AA57: 10499.06 | AB57: 319.42
A58: 016/KM.1/2009 | B58: 12/01/09 s/d 18/01/09 | C58: 39825 | D58: 10983.6 | E58: 7850.64 | F58: 7450.45 | G58: 9259.17 | H58: 1607.22 | I58: 2009.75 | J58: 14977.02 | K58: 1416.41 | L58: 225.66 | M58: 16501.98 | N58: 118.829 | O58: 8.34 | P58: 39367.39 | Q58: 3122.45 | R58: 1710.84 | S58: 1577.45 | T58: 138.78 | U58: 234.19 | V58: 2927.96 | W58: 6521.84 | X58: 7446.41 | Y58: 96.56 | Z58: 1403.92 | AA58: 9961.36 | AB58: 314.52
A59: 051/KM.1/2009 | B59: 19/01/09 s/d 25/01/09 | C59: 39832 | D59: 11156 | E59: 7447.52 | F59: 7483.93 | G59: 9003.45 | H59: 1631.97 | I59: 1976.66 | J59: 14729.04 | K59: 1438.09 | L59: 227.9 | M59: 16344.88 | N59: 124.6313 | O59: 8.17 | P59: 39157.6 | Q59: 3116.9 | R59: 1737.69 | S59: 1567.73 | T59: 141 | U59: 235.69 | V59: 2974.57 | W59: 6134.46 | X59: 7478.41 | Y59: 98 | Z59: 1352.84 | AA59: 9966.59 | AB59: 319.67
A60: 091/KM.1/2009 | B60: 26/01/09 s/d 01/02/09 | C60: 39839 | D60: 11221.8 | E60: 7380.8 | F60: 7483.3 | G60: 8927.02 | H60: 1640.97 | I60: 1957.02 | J60: 14582.95 | K60: 1446.29 | L60: 228.83 | M60: 15704.91 | N60: 125.3384 | O60: 8.16 | P60: 39047.56 | Q60: 3110 | R60: 1747.94 | S60: 1606.58 | T60: 140.27 | U60: 236.84 | V60: 2992.34 | W60: 5936.33 | X60: 7481 | Y60: 98.64 | Z60: 1354.02 | AA60: 9772.02 | AB60: 321.21
A61: 110/KM.1/2009 | B61: 02/02/09 s/d 08/02/09 | C61: 39846 | D61: 11320.8 | E61: 7438.67 | F61: 7534.64 | G61: 9250.53 | H61: 1653.25 | I61: 1986.08 | J61: 14801.49 | K61: 1459.37 | L61: 231.28 | M61: 16051.54 | N61: 126.4046 | O61: 8.18 | P61: 39328.82 | Q61: 3137.64 | R61: 1763.36 | S61: 1664.28 | T61: 143.42 | U61: 240.72 | V61: 3017.25 | W61: 5894.74 | X61: 7526.13 | Y61: 99.38 | Z61: 1397.6 | AA61: 9865.28 | AB61: 324.29
A62: 131/KM.1/2009 | B62: 09/02/09 s/d 15/02/09 | C62: 39853 | D62: 11742 | E62: 7586.04 | F62: 7786.89 | G62: 9509.69 | H62: 1717.07 | I62: 2026.81 | J62: 15102.56 | K62: 1514.4 | L62: 240.42 | M62: 17005.94 | N62: 130.3103 | O62: 8.48 | P62: 39768.34 | Q62: 3247.63 | R62: 1828.97 | S62: 1699.58 | T62: 148.39 | U62: 247.3 | V62: 3130.5 | W62: 6001.57 | X62: 7790.09 | Y62: 103.03 | Z62: 1417.48 | AA62: 10114.22 | AB62: 335.83
A63: 163/KM.1/2009 | B63: 16/02/09 s/d 22/02/09 | C63: 39860 | D63: 11799.4 | E63: 7782.65 | F63: 7847.12 | G63: 9538.11 | H63: 1726.7 | I63: 2044.62 | J63: 15236.57 | K63: 1522.06 | L63: 242.22 | M63: 17096.15 | N63: 129.875 | O63: 8.47 | P63: 40307.86 | Q63: 3274.08 | R63: 1837.91 | S63: 1741.49 | T63: 148.54 | U63: 250.63 | V63: 3145.82 | W63: 6204.6 | X63: 7842.22 | Y63: 103.5 | Z63: 1424.64 | AA63: 10166.11 | AB63: 336.43
A64: 165/KM.1/2009 | B64: 23/02/09 s/d 01/03/09 | C64: 39867 | D64: 11965.2 | E64: 7675.44 | F64: 7839.76 | G64: 9518.55 | H64: 1750.08 | I64: 2030.33 | J64: 15126.88 | K64: 1543.01 | L64: 241.6 | M64: 17056.39 | N64: 128.2994 | O64: 8.16 | P64: 40966.89 | Q64: 3279.84 | R64: 1863.74 | S64: 1721.82 | T64: 149.72 | U64: 250.13 | V64: 3190.14 | W64: 6098.9 | X64: 7835.14 | Y64: 104.91 | Z64: 1370.56 | AA64: 10211.31 | AB64: 337.75
A65: 194/KM.1/2009 | B65: 02/03/09 s/d 08/03/09 | C65: 39874 | D65: 11955.75 | E65: 7730.11 | F65: 7805.95 | G65: 9552.22 | H65: 1748.24 | I65: 2045.17 | J65: 15236.89 | K65: 1541.91 | L65: 238.64 | M65: 17162.24 | N65: 123.2933 | O65: 7.91 | P65: 40836.66 | Q65: 3259.74 | R65: 1862.27 | S65: 1735.68 | T65: 149.76 | U65: 247.74 | V65: 3187.84 | W65: 6084.28 | X65: 7803.5 | Y65: 104.15 | Z65: 1339.7 | AA65: 10256.28 | AB65: 333.87
A66: 217/KM.1/2009 | B66: 09/03/09 s/d 15/03/09 | C66: 39881 | D66: 12043.8 | E66: 7700.81 | F66: 7762.88 | G66: 9355.13 | H66: 1760.3 | I66: 2033.51 | J66: 15151.34 | K66: 1552.48 | L66: 232.47 | M66: 17000.31 | N66: 122.6331 | O66: 7.7 | P66: 40798.78 | Q66: 3237.06 | R66: 1875.98 | S66: 1689.25 | T66: 150.32 | U66: 246.84 | V66: 3212 | W66: 6003.83 | X66: 7761.68 | Y66: 105.41 | Z66: 1305.5 | AA66: 10277.51 | AB66: 332.83
A67: 222/KM.1/2009 | B67: 16/03/09 s/d 22/03/09 | C67: 39888 | D67: 12000.4 | E67: 7774.58 | F67: 7808.29 | G67: 9344.5 | H67: 1754.55 | I67: 2059.5 | J67: 15348.27 | K67: 1547.5 | L67: 231.36 | M67: 16622.95 | N67: 122.3382 | O67: 7.99 | P67: 40708.02 | Q67: 3244.26 | R67: 1869.22 | S67: 1725.08 | T67: 149.26 | U67: 247.49 | V67: 3199.83 | W67: 6121.88 | X67: 7816.12 | Y67: 105 | Z67: 1362.63 | AA67: 10265.88 | AB67: 333.51
... A108: 1397/KM.1/2009 | B108: 28/12/09 s/d 03/01/10 | C108: 40175 | D108: 9502 | E108: 8340.22 | F108: 6748.74 | G108: 8972.9 | H108: 1391.57 | I108: 1820.52 | J108: 13547.95 | K108: 1225.26 | L108: 202.91 | M108: 15187.68 | N108: 103.7525 | O108: 8.04 | P108: 33123.02 | Q108: 2766.02 | R108: 1480.06 | S108: 1617.31 | T108: 112.75 | U108: 204.03 | V108: 2533.84 | W108: 6663.12 | X108: 6749.38 | Y108: 83.11 | Z108: 1298.63 | AA108: 9065.35 | AB108: 285.57
B109: 2010
A110: 1397/KM.1/2009 | B110: 28/12/09 s/d 03/01/10 | C110: 40175 | D110: 9502 | E110: 8340.22 | F110: 6748.74 | G110: 8972.9 | H110: 1391.57 | I110: 1820.52 | J110: 13547.95 | K110: 1225.26 | L110: 202.91 | M110: 15187.68 | N110: 103.7525 | O110: 8.04 | P110: 33123.02 | Q110: 2766.02 | R110: 1480.06 | S110: 1617.31 | T110: 112.75 | U110: 204.03 | V110: 2533.84 | W110: 6663.12 | X110: 6749.38 | Y110: 83.11 | Z110: 1298.63 | AA110: 9065.35 | AB110: 285.57
A111: 001/KM.1/2010 | B111: 04/01/10 s/d 10/01/10 | C111: 40182 | D111: 9442 | E111: 8437.61 | F111: 6721 | G111: 9008.04 | H111: 1382.85 | I111: 1822.15 | J111: 13559.42 | K111: 1217.56 | L111: 202.14 | M111: 15123.02 | N111: 102.494 | O111: 8.09 | P111: 32902.39 | Q111: 2754.48 | R111: 1470.72 | S111: 1629.16 | T111: 111.95 | U111: 204.18 | V111: 2517.2 | W111: 6782.9 | X111: 6721.6 | Y111: 82.56 | Z111: 1314.86 | AA111: 9117.2 | AB111: 283.2
A112: 011/KM.1/2010 | B112: 11/01/10 s/d 17/01/10 | C112: 40189 | D112: 9287 | E112: 8504.29 | F112: 6649.15 | G112: 8961.69 | H112: 1360.23 | I112: 1792.43 | J112: 13337.43 | K112: 1197.49 | L112: 201.8 | M112: 14852.88 | N112: 100.2613 | O112: 8.15 | P112: 32383.71 | Q112: 2743.67 | R112: 1446.57 | S112: 1628.25 | T112: 109.68 | U112: 202.21 | V112: 2476.6 | W112: 6818.33 | X112: 6644.87 | Y112: 81.22 | Z112: 1308.47 | AA112: 8999.9 | AB112: 280.05
A113: 024/KM.1/2010 | B113: 18/01/10 s/d 24/01/10 | C113: 40196 | D113: 9174.4 | E113: 8498.98 | F113: 6605.52 | G113: 8901.65 | H113: 1343.87 | I113: 1786.28 | J113: 13290.77 | K113: 1182.78 | L113: 201.29 | M113: 14900.33 | N113: 100.4423 | O113: 8.17 | P113: 32052.55 | Q113: 2745.56 | R113: 1429.03 | S113: 1626.72 | T113: 108.27 | U113: 200.59 | V113: 2446.78 | W113: 6790.16 | X113: 6605.71 | Y113: 80.23 | Z113: 1304.55 | AA113: 9002.45 | AB113: 278.37
A114: 052/KM.1/2010 | B114: 25/01/10 s/d 31/01/10 | C114: 40203 | D114: 9295 | E114: 8479.08 | F114: 6649.64 | G114: 8925.48 | H114: 1361.5 | I114: 1773.21 | J114: 13197.6 | K114: 1196.67 | L114: 202.7 | M114: 15132.82 | N114: 102.4762 | O114: 8.18 | P114: 32407.99 | Q114: 2765.13 | R114: 1447.82 | S114: 1617.15 | T114: 109.99 | U114: 202.05 | V114: 2478.52 | W114: 6727.72 | X114: 6646.88 | Y114: 81.3 | Z114: 1299.99 | AA114: 8964.74 | AB114: 282.15
A115: 062/KM.1/2010 | B115: 01/02/10 s/d 07/02/10 | C115: 40210 | D115: 9382 | E115: 8435.17 | F115: 6683.76 | G115: 8834.44 | H115: 1374.27 | I115: 1771.14 | J115: 13186.03 | K115: 1207.23 | L115: 202.69 | M115: 15169.94 | N115: 104.3952 | O115: 8.11 | P115: 32695.36 | Q115: 2747.26 | R115: 1461.37 | S115: 1604.44 | T115: 110.88 | U115: 201.56 | V115: 2501.76 | W115: 6649.77 | X115: 6684.05 | Y115: 81.9 | Z115: 1287.9 | AA115: 8965.29 | AB115: 283.79
A116: 076/KM.1/2010 | B116: 08/02/10 s/d 14/02/10 | C116: 40217 | D116: 9359.4 | E116: 8222.23 | F116: 6616.57 | G116: 8784.21 | H116: 1370.92 | I116: 1740.09 | J116: 12955.47 | K116: 1204.76 | L116: 202.54 | M116: 14847.75 | N116: 103.8364 | O116: 8.07 | P116: 32522.53 | Q116: 2736.22 | R116: 1457.85 | S116: 1585.65 | T116: 110.21 | U116: 201.99 | V116: 2495.79 | W116: 6548.77 | X116: 6614.88 | Y116: 81.65 | Z116: 1277.1 | AA116: 8823.63 | AB116: 282.45
A117: 081/KM.1/2010 | B117: 15/02/10 s/d 21/02/10 | C117: 40224 | D117: 9377.2 | E117: 8248 | F117: 6619.51 | G117: 8838.08 | H117: 1372.93 | I117: 1726.77 | J117: 12855.77 | K117: 1206.84 | L117: 201.16 | M117: 14681.69 | N117: 104.5722 | O117: 8.07 | P117: 32530.35 | Q117: 2732.57 | R117: 1460.62 | S117: 1585.49 | T117: 110.46 | U117: 202.17 | V117: 2500.55 | W117: 6502.9 | X117: 6618.2 | Y117: 81.72 | Z117: 1283.55 | AA117: 8769.31 | AB117: 282.53
A118: 125/KM.1/2010 | B118: 22/02/10 s/d 28/02/10 | C118: 40231 | D118: 9325 | E118: 8349.42 | F118: 6616.29 | G118: 8909.63 | H118: 1364.64 | I118: 1703.87 | J118: 12682.56 | K118: 1200.38 | L118: 201.7 | M118: 14565.46 | N118: 102.477 | O118: 8.1 | P118: 32268 | Q118: 2735.7 | R118: 1452.49 | S118: 1574.85 | T118: 109.87 | U118: 201.97 | V118: 2486.6 | W118: 6532.54 | X118: 6614.32 | Y118: 81.52 | Z118: 1289.51 | AA118: 8647.71 | AB118: 281.01
...
